BEGIN:VCALENDAR
VERSION:2.0
PRODID:-//wp-events-plugin.com//7.2.3.1//EN
TZID:Europe/Berlin
X-WR-TIMEZONE:Europe/Berlin
BEGIN:VEVENT
UID:0-268@gcl.de
DTSTART;TZID=Europe/Berlin:20261028T180000
DTEND;TZID=Europe/Berlin:20261101T130000
DTSTAMP:20251001T071445Z
URL:https://gcl.de/veranstaltungen/als-paar-mit-der-bibel-unterwegs/
SUMMARY:Als Paar mit der Bibel unterwegs
DESCRIPTION:Gerade als Paar gibt es vielfältige Aufgaben zu bewältigen\, 
 das nimmt viel Zeit und Kraft in Anspruch\, darüber gerät oftmals die Be
 ziehung zueinander in den Hintergrund.\nWir bieten in diesem Kurs die Mög
 lichkeit an\, sich einmal bewusst der spirituellen\, geistlichen Dimension
  der Paarbeziehungen zuzuwendeen und sich durch gemeinsames "Arbeiten" an 
 biblischen Texten leiten und inspirieren zu lassen\, die jeweiligen Charis
 men gegenseitig schätzen zu lernen und in der Verschiedenheit Chancen zu 
 sehen.\nLetztlich sich der Frage zu nähern\, welche Beziehung als Paar ha
 ben wir zu Gott\, welchen Weg will Gott uns als Paar führen.\nEs wird Pha
 sen des Gesprächs und des Austauschs in der Gruppe geben\, der Einzelbetr
 achtung im Schweigen und des Austauschs als Paar. Zeiten von Gebet und got
 tesdienstlichem Feiern werden mit der Gruppe gemeinsam entwickelt und vera
 bredet.\n\nEs können 6 Paare teilnehmen. Zugehörige Kinder sind herzlich
  willkommen. Die Unterbringung ist sowohl im DZ wie auch im EZ oder Famili
 enzimmer möglich. Kinderbetreuung ist möglich\, wir bitten für die Plan
 ung um frühzeitige Anmeldung.\n\nKursgebühr folgt in Kürze\n\nHauskoste
 n:\nca. 380 EUR im EZ\nca. 360 EUR im DZ (Preis pro Person)
ATTACH;FMTTYPE=image/jpeg:https://gcl.de/wp-content/uploads/2023/10/Ehepaa
 re_05-1.jpg
CATEGORIES:Eltern mit Kindern,Exerzitien,Thematische Angebote
LOCATION:Exerzitienhaus St. Paulus\, Krippackerstr. 6\, Stadtbergen\, Bayer
 n\, 86391\, Augsburg\, Deutschland
X-APPLE-STRUCTURED-LOCATION;VALUE=URI;X-ADDRESS=Krippackerstr. 6\, Stadtber
 gen\, Bayern\, 86391\, Augsburg\, Deutschland;X-APPLE-RADIUS=100;X-TITLE=E
 xerzitienhaus St. Paulus:geo:0,0
END:VEVENT
BEGIN:VTIMEZONE
TZID:Europe/Berlin
X-LIC-LOCATION:Europe/Berlin
BEGIN:STANDARD
DTSTART:20261025T020000
TZOFFSETFROM:+0200
TZOFFSETTO:+0100
TZNAME:CET
END:STANDARD
END:VTIMEZONE
END:VCALENDAR