BEGIN:VCALENDAR
VERSION:2.0
PRODID:-//wp-events-plugin.com//7.2.3.1//EN
TZID:Europe/Berlin
X-WR-TIMEZONE:Europe/Berlin
BEGIN:VEVENT
UID:0-228@gcl.de
DTSTART;TZID=Europe/Berlin:20260425T140000
DTEND;TZID=Europe/Berlin:20260425T140000
DTSTAMP:20260326T125738Z
URL:https://gcl.de/veranstaltungen/aufbaeumen-fuer-die-schoepfung-fortfueh
 rung-baumpflanz-wochenende/
SUMMARY:"Aufbäumen für die Schöpfung" - Fortführung Baumpflanz-Wochenen
 de
DESCRIPTION:\n\n\n\n\n\n\n„Wenn ich wüsste\, dass morgen die Welt unterg
 inge\, würde ich heute noch ein Apfelbäumchen pflanzen.“ \n\n\n\n\n\n\
 n\n&nbsp\;\n\n\n\nDieser 500 Jahre alte Satz\, der Martin Luther zugeschri
 eben wird\, berührt noch heute. Die GCL-Arbeitsgruppe für Sozialökologi
 sche Transformation lädt am Samstag\, 25. April\, in Schmitten im Taunus 
 zu einer Baumpflanz-Aktion ein\, bei der die Vision eines Gemeinschaftswal
 des verwirklicht werden soll. „Mit diesem nachhaltigen Zeichen von ‚ac
 tive hope“ wollen wir uns aufbäumen gegen die Zerstörungszeichen unser
 er Zeit“\, so Maria Anna Gutte\, Mitglied des Arbeitskreises. Mit dem Pr
 opheten Jesaja ist auch ein spiritueller Anknüpfungspunkt für diese Baum
 pflanzaktion verbunden. So heißt es bei Jesaja: „Denn ihr sollt in Freu
 den ausziehen und in Frieden heimgebracht werden. Berge und Hügel brechen
  vor euch in Jubel aus und alle Bäume auf dem Feld klatschen in die Händ
 e. (Jes 55\,12).“\n\n\n\n\n\n\nTreffpunkt ist an diesem Samstag um 14 Uh
 r\; die Fläche für die Bepflanzung befindet sich in der Nähe der Siegfr
 iedstraße (= Kreisstraße zwischen Sandplacken und Schmitten-Oberreifenbe
 rg). Bitte nutzen Sie die erste Parkfläche auf der linken Seite\, kommend
  vom Sandplacken. Dort werden die Teilnehmer abgeholt\, der Fußweg zur Fl
 äche beträgt ca. 15 Minuten. Ein Pflanzbaum kostet 12 Euro.\n\n\n\n\n\n\
 nKontakt und Infos: magu_gutte@yahoo.de\n\n\n
ATTACH;FMTTYPE=image/jpeg:https://gcl.de/wp-content/uploads/2025/10/Flyer_
 SOET-Baumpflanz-WE-8-Website-veranstaltungen.png
CATEGORIES:Sozialökologische Transformation,Thematische Angebote
LOCATION:Schmitten im Taunus\, \, 
X-APPLE-STRUCTURED-LOCATION;VALUE=URI;X-ADDRESS=\, ;X-APPLE-RADIUS=100;X-TI
 TLE=Schmitten im Taunus:geo:0,0
END:VEVENT
BEGIN:VTIMEZONE
TZID:Europe/Berlin
X-LIC-LOCATION:Europe/Berlin
BEGIN:DAYLIGHT
DTSTART:20260329T030000
TZOFFSETFROM:+0100
TZOFFSETTO:+0200
TZNAME:CEST
END:DAYLIGHT
END:VTIMEZONE
END:VCALENDAR