BEGIN:VCALENDAR
VERSION:2.0
PRODID:-//wp-events-plugin.com//7.2.3.1//EN
TZID:Europe/Berlin
X-WR-TIMEZONE:Europe/Berlin
BEGIN:VEVENT
UID:0-297@gcl.de
DTSTART;TZID=Europe/Berlin:20260311T193000
DTEND;TZID=Europe/Berlin:20260311T210000
DTSTAMP:20260225T181845Z
URL:https://gcl.de/veranstaltungen/den-gefuehlen-trauen-und-den-kopf-gebra
 uchen-hoeren-und-unterscheiden-in-bildung-und-erziehung-online-abend/
SUMMARY:Den Gefühlen trauen und den Kopf gebrauchen – Hören und Untersc
 heiden in Bildung und Erziehung. Online-Abend.
DESCRIPTION:Online-Abend per Zoom\n\nAnmeldung bis spätestens 8. März 202
 6 bei Annette Haseneder: annette.haseneder@gcl.de\nDanach wird der Zoom-Li
 nk zugeschickt.
ATTACH;FMTTYPE=image/jpeg:https://gcl.de/wp-content/uploads/2026/02/Unbena
 nnt-3.jpeg
CATEGORIES:Online-Seminar,Online-Veranstaltungen,Pädagogik – Schule –
 Schulseelsorge,Vernetzungsinitiativen
END:VEVENT
BEGIN:VTIMEZONE
TZID:Europe/Berlin
X-LIC-LOCATION:Europe/Berlin
BEGIN:STANDARD
DTSTART:20251026T020000
TZOFFSETFROM:+0200
TZOFFSETTO:+0100
TZNAME:CET
END:STANDARD
END:VTIMEZONE
END:VCALENDAR