BEGIN:VCALENDAR
VERSION:2.0
PRODID:-//wp-events-plugin.com//7.2.3.1//EN
TZID:Europe/Berlin
X-WR-TIMEZONE:Europe/Berlin
BEGIN:VEVENT
UID:0-256@gcl.de
DTSTART;TZID=Europe/Berlin:20260913T180000
DTEND;TZID=Europe/Berlin:20260918T100000
DTSTAMP:20250917T063649Z
URL:https://gcl.de/veranstaltungen/der-ort-wo-du-stehst-ist-heiliger-boden
 -exerzitien-auf-den-strassen-von-regensburg/
SUMMARY:"Der Ort wo Du stehst\, ist heiliger Boden" - Exerzitien auf den St
 raßen von Regensburg
DESCRIPTION:Weitere Informationen folgen in Kürze.\n\nBegleitung:\nElisabe
 th Buddeus-Steif\, Wehrheim-Oberhain\nElisabeth Paukner\, Neutraubling\n\n
 Anmeldung:\nHaus Werdenfels\nTel.: 09404 9502-0\; buero@haus-werdenfels.de
 \nHomepage
ATTACH;FMTTYPE=image/jpeg:https://gcl.de/wp-content/uploads/2024/01/gehen_
 by_Yohanes_Vianey_Lein_pfarrbriefservice-scaled.jpg
CATEGORIES:Exerzitien,Straßenexerzitien
LOCATION:Haus Werdenfels\, Waldweg 15\, Nittendorf\, Bayern\, 93152\, Deuts
 chland
X-APPLE-STRUCTURED-LOCATION;VALUE=URI;X-ADDRESS=Waldweg 15\, Nittendorf\, B
 ayern\, 93152\, Deutschland;X-APPLE-RADIUS=100;X-TITLE=Haus Werdenfels:geo
 :0,0
END:VEVENT
BEGIN:VTIMEZONE
TZID:Europe/Berlin
X-LIC-LOCATION:Europe/Berlin
BEGIN:DAYLIGHT
DTSTART:20260329T030000
TZOFFSETFROM:+0100
TZOFFSETTO:+0200
TZNAME:CEST
END:DAYLIGHT
END:VTIMEZONE
END:VCALENDAR