BEGIN:VCALENDAR
VERSION:2.0
PRODID:-//wp-events-plugin.com//7.2.3.1//EN
TZID:Europe/Berlin
X-WR-TIMEZONE:Europe/Berlin
BEGIN:VEVENT
UID:0-246@gcl.de
DTSTART;TZID=Europe/Berlin:20260731T180000
DTEND;TZID=Europe/Berlin:20260809T093000
DTSTAMP:20260121T074447Z
URL:https://gcl.de/veranstaltungen/einzelexerzitien-10-tage-16/
SUMMARY:Einzelexerzitien - 10 Tage
DESCRIPTION:Elemente:\n- durchgehendes Schweigen\n- persönliche Gebetszeit
 en\n- tägliches Begleitgespräch\n- Übungen zur Körperwahrnehmung\n- Fe
 ier der Eucharistie\n\nBegleitung:\nBernhard Kranebitter\, Innsbruck\nPetr
 a Schwaiger\, München\nSr. Maria Judith Tappeiner\, Wien\n\nHauskosten:\n
 EZ mit Du/WC: ca. 823 EUR\nDZ mit Etagendusche/WC: ca. 795 EUR\n\nKursgeb
 ühr: 270 EUR
ATTACH;FMTTYPE=image/jpeg:https://gcl.de/wp-content/uploads/2023/07/Exerzi
 tien_bild_gelb_quer.jpg
CATEGORIES:Einzelexerzitien,Exerzitien
LOCATION:Haus Werdenfels\, Waldweg 15\, Nittendorf\, Bayern\, 93152\, Deuts
 chland
X-APPLE-STRUCTURED-LOCATION;VALUE=URI;X-ADDRESS=Waldweg 15\, Nittendorf\, B
 ayern\, 93152\, Deutschland;X-APPLE-RADIUS=100;X-TITLE=Haus Werdenfels:geo
 :0,0
END:VEVENT
BEGIN:VTIMEZONE
TZID:Europe/Berlin
X-LIC-LOCATION:Europe/Berlin
BEGIN:DAYLIGHT
DTSTART:20260329T030000
TZOFFSETFROM:+0100
TZOFFSETTO:+0200
TZNAME:CEST
END:DAYLIGHT
END:VTIMEZONE
END:VCALENDAR