BEGIN:VCALENDAR
VERSION:2.0
PRODID:-//wp-events-plugin.com//7.2.3.1//EN
TZID:Europe/Berlin
X-WR-TIMEZONE:Europe/Berlin
BEGIN:VEVENT
UID:0-249@gcl.de
DTSTART;TZID=Europe/Berlin:20260821T180000
DTEND;TZID=Europe/Berlin:20260830T090000
DTSTAMP:20260121T074547Z
URL:https://gcl.de/veranstaltungen/einzelexerzitien-10-tage-18/
SUMMARY:Einzelexerzitien - 10 Tage
DESCRIPTION:Elemente:\n- durchgehendes Schweigen\n- persönliche Gebetszeit
 en\n- tägliches Begleitgespräch\n- Übungen zur Körperwahrnehmung\n- Fe
 ier der Eucharistie\n\nBegleitung:\nSonja Braun\, Trier\nHildegard Joeres\
 , Augsburg\nWolfgang Wawroschek\, Ettlingen\n\nHauskosten: ca. 747 EUR\nKu
 rsgebühr: 270 EUR
ATTACH;FMTTYPE=image/jpeg:https://gcl.de/wp-content/uploads/2023/10/Herz_a
 us_Haenden.jpg
CATEGORIES:Einzelexerzitien,Exerzitien
LOCATION:Haus Johannisthal\, Johannisthal 1\, Windischeschenbach\, 82670\, 
 Deutschland
X-APPLE-STRUCTURED-LOCATION;VALUE=URI;X-ADDRESS=Johannisthal 1\, Windisches
 chenbach\, 82670\, Deutschland;X-APPLE-RADIUS=100;X-TITLE=Haus Johannistha
 l:geo:0,0
END:VEVENT
BEGIN:VTIMEZONE
TZID:Europe/Berlin
X-LIC-LOCATION:Europe/Berlin
BEGIN:DAYLIGHT
DTSTART:20260329T030000
TZOFFSETFROM:+0100
TZOFFSETTO:+0200
TZNAME:CEST
END:DAYLIGHT
END:VTIMEZONE
END:VCALENDAR