BEGIN:VCALENDAR
VERSION:2.0
PRODID:-//wp-events-plugin.com//7.2.3.1//EN
TZID:Europe/Berlin
X-WR-TIMEZONE:Europe/Berlin
BEGIN:VEVENT
UID:0-257@gcl.de
DTSTART;TZID=Europe/Berlin:20260921T000000
DTEND;TZID=Europe/Berlin:20260924T000000
DTSTAMP:20250917T064321Z
URL:https://gcl.de/veranstaltungen/einzelexerzitien-4-tage/
SUMMARY:Einzelexerzitien - 4 Tage
DESCRIPTION:Elemente:\n- durcgehendes Schweigen\n- persönliche Gebetszeite
 n\n- tägliches Begleitgespräch\n- Übungen zur Körperwahrnehmung\n- Fei
 er der Eucharistie\n\nBegleitung:\nJutta Barthold\, Rheinbach\nBrigitte Bo
 den\, Köln\n\nAnmeldung:\nGeneralviktariat Köln\nTel.: 0221 1642-1654\; 
 est-ex@erzbistum-koeln.de\nHomepage
ATTACH;FMTTYPE=image/jpeg:https://gcl.de/wp-content/uploads/2023/10/symbol
 bild_ignatianisch_01-1.jpg
CATEGORIES:Einzelexerzitien,Exerzitien
LOCATION:Edith-Stein-Exerzitienhaus\, Bergstr. 26\, Siegburg\, 53721\, Deut
 schland
X-APPLE-STRUCTURED-LOCATION;VALUE=URI;X-ADDRESS=Bergstr. 26\, Siegburg\, 53
 721\, Deutschland;X-APPLE-RADIUS=100;X-TITLE=Edith-Stein-Exerzitienhaus:ge
 o:0,0
END:VEVENT
BEGIN:VTIMEZONE
TZID:Europe/Berlin
X-LIC-LOCATION:Europe/Berlin
BEGIN:DAYLIGHT
DTSTART:20260329T030000
TZOFFSETFROM:+0100
TZOFFSETTO:+0200
TZNAME:CEST
END:DAYLIGHT
END:VTIMEZONE
END:VCALENDAR