BEGIN:VCALENDAR
VERSION:2.0
PRODID:-//wp-events-plugin.com//7.2.3.1//EN
TZID:Europe/Berlin
X-WR-TIMEZONE:Europe/Berlin
BEGIN:VEVENT
UID:0-215@gcl.de
DTSTART;TZID=Europe/Berlin:20260706T180000
DTEND;TZID=Europe/Berlin:20260715T090000
DTSTAMP:20251013T110801Z
URL:https://gcl.de/veranstaltungen/einzelexerzitien-4/
SUMMARY:Einzelexerzitien
DESCRIPTION:\n\n\nDiese Exerzitien wollen helfen\, den eigenen Weg zu finde
 n und die Einladung aus dem Exerzitienbuch des Ignatius von Loyola aufzugr
 eifen: "Jesus je mehr kennen zu lernen\, lieben zu lernen\, um ihm so bess
 er nachzufolgen." (vgl. Exerzitienbuch 104).\n\nDazu dienen folgende grund
 legende Elemente:\n\n 	Das durchgehende Schweigen unterstützt den Weg in 
 die Tiefe\, dorthin\, wo wir mit unserer Sehnsucht\, mit dem Grundziel uns
 eres Lebens in Berührung kommen\n 	In den täglichen persönlichen Gebets
 zeiten und in der gemeinsamen Feier der Eucharistie wächst die Beziehung 
 zu Gott\, zu Jesus Christus\n 	Das Begleitgespräch bietet Raum\, die Lebe
 nswirklichkeit des Exerzitanten / der Exerzitantin gemeinsam anzuschauen u
 nd den nächsten Schritt für den persönlichen Gebetsweg zu finden\n 	Auc
 h die Übungen zur Leibwahrnehmung helfen\, ganzheitlich aufmerksamer zu w
 erden für die Wirklichkeit\n\nBegleitung: Sr. Debora Decker OSB\, Kloster
  Marienrode\, Anna Maria Wielenberg\, Wilhelmshaven\n\nKosten: ca. 800\,00
  € für Unterkunft und Verpflegung\, zzgl. Beherbergungssteuer Stadt Hil
 desheim ca. 18\,00 €\n\nKursgebühr\n\n&nbsp\;\n\n\n
ATTACH;FMTTYPE=image/jpeg:https://gcl.de/wp-content/uploads/2024/09/Kloste
 r-scaled.jpg
CATEGORIES:Einzelexerzitien
LOCATION:Gästehaus Kloster Marienrode\, Auf dem Gutshof\, Hildesheim\, 311
 39\, Deutschland
X-APPLE-STRUCTURED-LOCATION;VALUE=URI;X-ADDRESS=Auf dem Gutshof\, Hildeshei
 m\, 31139\, Deutschland;X-APPLE-RADIUS=100;X-TITLE=Gästehaus Kloster Mari
 enrode:geo:0,0
END:VEVENT
BEGIN:VTIMEZONE
TZID:Europe/Berlin
X-LIC-LOCATION:Europe/Berlin
BEGIN:DAYLIGHT
DTSTART:20260329T030000
TZOFFSETFROM:+0100
TZOFFSETTO:+0200
TZNAME:CEST
END:DAYLIGHT
END:VTIMEZONE
END:VCALENDAR