BEGIN:VCALENDAR
VERSION:2.0
PRODID:-//wp-events-plugin.com//7.2.3.1//EN
TZID:Europe/Berlin
X-WR-TIMEZONE:Europe/Berlin
BEGIN:VEVENT
UID:0-211@gcl.de
DTSTART;TZID=Europe/Berlin:20261019T170000
DTEND;TZID=Europe/Berlin:20261025T130000
DTSTAMP:20260116T130016Z
URL:https://gcl.de/veranstaltungen/einzelexerzitien-5/
SUMMARY:Einzelexerzitien im Kloster
DESCRIPTION:Die Exerzitien nach Ignatius von Loyola sind ausgerichtet auf d
 en Weg des Einzelnen.\nSie bieten Raum und Zeit für die Sehnsucht nach wi
 rklich tragender Glaubenserfahrung\, nach einer tiefen Begegnung mit sich 
 selbst\, mit anderen Menschen\, mit Gott.\n
ATTACH;FMTTYPE=image/jpeg:https://gcl.de/wp-content/uploads/2025/08/Exerzi
 tienhaus.Quadrat.jpg
CATEGORIES:Einzelexerzitien,Exerzitien
LOCATION:Exerzitienhaus Kloster Nette\, Östringer Weg 120\, Osnabrück\, N
 iedersachsen\, 49090\, Deutschland
X-APPLE-STRUCTURED-LOCATION;VALUE=URI;X-ADDRESS=Östringer Weg 120\, Osnabr
 ück\, Niedersachsen\, 49090\, Deutschland;X-APPLE-RADIUS=100;X-TITLE=Exer
 zitienhaus Kloster Nette:geo:0,0
END:VEVENT
BEGIN:VTIMEZONE
TZID:Europe/Berlin
X-LIC-LOCATION:Europe/Berlin
BEGIN:DAYLIGHT
DTSTART:20260329T030000
TZOFFSETFROM:+0100
TZOFFSETTO:+0200
TZNAME:CEST
END:DAYLIGHT
BEGIN:STANDARD
DTSTART:20261025T020000
TZOFFSETFROM:+0200
TZOFFSETTO:+0100
TZNAME:CET
END:STANDARD
END:VTIMEZONE
END:VCALENDAR