BEGIN:VCALENDAR
VERSION:2.0
PRODID:-//wp-events-plugin.com//7.2.3.1//EN
TZID:Europe/Berlin
X-WR-TIMEZONE:Europe/Berlin
BEGIN:VEVENT
UID:0-239@gcl.de
DTSTART;TZID=Europe/Berlin;VALUE=DATE:20260510
DTEND;TZID=Europe/Berlin;VALUE=DATE:20260516
DTSTAMP:20260121T074331Z
URL:https://gcl.de/veranstaltungen/einzelexerzitien-6-tage-2/
SUMMARY:Einzelexerzitien - 6 Tage
DESCRIPTION:Einzelexerzitien sind geprägt durch\n- durchgehendes Schweigen
 \n- persönliche Gebetszeiten\n- tägliches Begleitgespräch\n- Übungen z
 ur Körperwahrnehmung\n- Feier der Eucharistie\n\nBegleitung:\nChristoph K
 ohl\, Speyer\nCordula Leidner\, Bad Klosterlausnitz\n\nKursgebühr: 150 EU
 R\nHauskosten: ca. 560 EUR
ATTACH;FMTTYPE=image/jpeg:https://gcl.de/wp-content/uploads/2023/10/Kerzen
 _Lichter.jpg
CATEGORIES:Einzelexerzitien,Exerzitien
LOCATION:Kloster Huysburg\, Huysburg 2\, Dingelstedt\, 38838\, Deutschland
X-APPLE-STRUCTURED-LOCATION;VALUE=URI;X-ADDRESS=Huysburg 2\, Dingelstedt\, 
 38838\, Deutschland;X-APPLE-RADIUS=100;X-TITLE=Kloster Huysburg:geo:0,0
END:VEVENT
BEGIN:VTIMEZONE
TZID:Europe/Berlin
X-LIC-LOCATION:Europe/Berlin
BEGIN:DAYLIGHT
DTSTART:20260329T030000
TZOFFSETFROM:+0100
TZOFFSETTO:+0200
TZNAME:CEST
END:DAYLIGHT
END:VTIMEZONE
END:VCALENDAR