BEGIN:VCALENDAR
VERSION:2.0
PRODID:-//wp-events-plugin.com//7.2.3.1//EN
TZID:Europe/Berlin
X-WR-TIMEZONE:Europe/Berlin
BEGIN:VEVENT
UID:0-290@gcl.de
DTSTART;TZID=Europe/Berlin:20261025T180000
DTEND;TZID=Europe/Berlin:20261030T130000
DTSTAMP:20260407T100945Z
URL:https://gcl.de/veranstaltungen/einzelexerzitien-6-tage-3/
SUMMARY:Einzelexerzitien - 6 Tage
DESCRIPTION:Exerzitien meinen einen geistlichen Übungsweg\, der helfen wil
 l bei der Suche nach Gott\, nach sich selbst und einem erfüllteren Leben 
 aus dem christlichen Glauben.\n\nElemente der Exerzitien sind:\n- persönl
 iche Zeiten des Gebets\, der Schriftmeditation und der Stille\n- durchgehe
 ndes Schweigen\n- Einzelgespräch mit der Exerzitienbegleiterin\n- Übunge
 n der Körperwahrnehmung (Eutonie)\n- gemeinsames Morgenlob\n- Feier der E
 ucharistie\n\nIn einer Gesellschaft\, die immer schneller funktioniert und
  in der Leistung ein Bewertungskriterium ist\, dem man sich kaum entziehen
  kann\, fallen Exerzitien völlig aus dem Rahmen.\nDenn in Exerzitien komm
 t es nicht darauf an etwas zu machen oder zu leisten... Es geht um die Bez
 iehung zwischen Gott und Mensch\, die im Mittelpunkt der Exerzitien steht.
 \nDort erfährt der Mensch sich als Empfangender. Alle Dimensionen des Men
 schen werden in diese Beziehung hineingenommen: Denken\, Phantasie\, Bilde
 r\, Ideen\, Gefühle\, Wahrnehmung\, Leib und Geist.\nAus den Exerzitien w
 ächst so mehr Klarheit für das eigene Leben\, die Fähigkeit\, Entscheid
 ungen zu treffen\, zu lieben und entschlossen zu handeln.\n\nLeitung:\nIng
 e Höpfl\nElisabeth Paukner\n\nKursgebühr: 120 EUR\nHauskosten:\n450 EUR 
 im EZ mit Du/WC\n420 EUR im EZ mit Etagendusche\n\nAnmeldung:\nHaus Werden
 fels\nTel.: 09404 9502-0\; Mail: buero@haus-werdenfels.de\nweitere Infos u
 nd Online-Anmeldung siehe Homepage
ATTACH;FMTTYPE=image/jpeg:https://gcl.de/wp-content/uploads/2023/10/Herz_a
 us_Haenden.jpg
CATEGORIES:Einzelexerzitien,Exerzitien
LOCATION:Haus Werdenfels\, Waldweg 15\, Nittendorf\, Bayern\, 93152\, Deuts
 chland
X-APPLE-STRUCTURED-LOCATION;VALUE=URI;X-ADDRESS=Waldweg 15\, Nittendorf\, B
 ayern\, 93152\, Deutschland;X-APPLE-RADIUS=100;X-TITLE=Haus Werdenfels:geo
 :0,0
END:VEVENT
BEGIN:VTIMEZONE
TZID:Europe/Berlin
X-LIC-LOCATION:Europe/Berlin
BEGIN:STANDARD
DTSTART:20261025T020000
TZOFFSETFROM:+0200
TZOFFSETTO:+0100
TZNAME:CET
END:STANDARD
END:VTIMEZONE
END:VCALENDAR