BEGIN:VCALENDAR
VERSION:2.0
PRODID:-//wp-events-plugin.com//7.2.3.1//EN
TZID:Europe/Berlin
X-WR-TIMEZONE:Europe/Berlin
BEGIN:VEVENT
UID:0-240@gcl.de
DTSTART;TZID=Europe/Berlin:20260525T180000
DTEND;TZID=Europe/Berlin:20260531T090000
DTSTAMP:20250911T102817Z
URL:https://gcl.de/veranstaltungen/einzelexerzitien-7-tage-5/
SUMMARY:Einzelexerzitien - 7 Tage
DESCRIPTION:Gottes Liebe ist ausgegossen in unsere Herzen durch den Heilige
 n Geist\, der uns gegeben ist. Röm 5\,5\n\nExerzitien sind ein geistliche
 r Übungsweg\, der helfen will bei der Suche nach Gott\, nach sich selbst 
 und einem erfüllten Leben aus dem christlichen Glauben.\n\nElemente diese
 s Exerzitienangebots sind:\n- Morgenlob mit Leib und Seele\n- persönliche
  Gebetszeiten (Beten mitder Heiligen Schrift)\n- durchgehendes Schweigen\n
 - tägliches Einzelgespräch mit dem/der Exerzitienbegleiter/in\n- Feier d
 er Eucharistie in der Exerzitiengruppe\n\nWeitere Informaionen siehe Homep
 age\n\nBegleitung:\nEdna Auer\, Mainz\nPfr. Matthias Eller\, Wiesentheid\n
 \nKursgebühr: 120 EUR\n\nHauskosten:\n450 EUR im EZ mit Dusche/WC\n420 EU
 R im EZ mit Etagendusche\n\nAnmeldung:\nHaus Werdenfels\nTel.: 09404 9502-
 0\; buero@haus-werdenfels.de\nOnline-Anmeldung
ATTACH;FMTTYPE=image/jpeg:https://gcl.de/wp-content/uploads/2023/07/Exerzi
 tien_bild_gelb_quer.jpg
CATEGORIES:Einzelexerzitien,Exerzitien
END:VEVENT
BEGIN:VTIMEZONE
TZID:Europe/Berlin
X-LIC-LOCATION:Europe/Berlin
BEGIN:DAYLIGHT
DTSTART:20260329T030000
TZOFFSETFROM:+0100
TZOFFSETTO:+0200
TZNAME:CEST
END:DAYLIGHT
END:VTIMEZONE
END:VCALENDAR