BEGIN:VCALENDAR
VERSION:2.0
PRODID:-//wp-events-plugin.com//7.2.3.1//EN
TZID:Europe/Berlin
X-WR-TIMEZONE:Europe/Berlin
BEGIN:VEVENT
UID:0-244@gcl.de
DTSTART;TZID=Europe/Berlin:20260705T180000
DTEND;TZID=Europe/Berlin:20260712T131500
DTSTAMP:20250912T065931Z
URL:https://gcl.de/veranstaltungen/einzelexerzitien-8-tage-25/
SUMMARY:Einzelexerzitien - 8 Tage
DESCRIPTION:"Wenige Menschen ahnen\, was Gott aus ihnen machen würde\, wen
 n sie sich ihm ganz überließen" (Ignatius von Loyola)\n\nExerzitien biet
 en die Möglichkeit\, im eigenen Leben die Anwesenheit Gottes neu zu suche
 n\, zu entdecken und Beziehung zu wagen.\nDie geistlichen Übungen zeigen 
 einen Weg\, Gebet als Teil des Alltags verstehen zu lernen und neuen Gesch
 mack am Leben zu finden.\nDie Tage laden ein zu täglicher Stille in Gebet
  und Besinnung.\nDer persönliche Weg wird individuell begleitet.\n\nRegel
 mäßig wiederkehrende Tageselemente:\n- Einführung in die Bibel-Meditati
 on nach Ignatius von Loyola\n- Hinweise für das persönliche Beten\n- per
 sönliche Gebets- und Reflexionszeiten\, mehrfach am Tag\n- Begleitgesprä
 ch\n- durchgehendes Schweigen\n- Eucharistiefeier\n\nLeitung:\nCordula Lei
 dner\, Bad Klosterlausnitz\nMatthäus Niesmann\, Münster\n\nKosten: 790 E
 UR (darin enthalten sind 217 EUR Unterkunft und 295\,50 EUR Verpflegung)\n
 \nAnmeldung:\nBildungs- und Exerzitienhaus St. Bonifatius\nTel.: 02981 927
 3-0\; info@bonifatius-elkeringhausen.de\nOnline-Anmeldung
ATTACH;FMTTYPE=image/jpeg:https://gcl.de/wp-content/uploads/2023/10/Herz_a
 us_Haenden-1.jpg
CATEGORIES:Einzelexerzitien,Exerzitien
LOCATION:Bildungs- und Exerzitienhaus St. Bonifatius\, Bonifatiusweg 1-5\, 
 Winterberg-Elkeringhausen\, 59955\, Deutschland
X-APPLE-STRUCTURED-LOCATION;VALUE=URI;X-ADDRESS=Bonifatiusweg 1-5\, Winterb
 erg-Elkeringhausen\, 59955\, Deutschland;X-APPLE-RADIUS=100;X-TITLE=Bildun
 gs- und Exerzitienhaus St. Bonifatius:geo:0,0
END:VEVENT
BEGIN:VTIMEZONE
TZID:Europe/Berlin
X-LIC-LOCATION:Europe/Berlin
BEGIN:DAYLIGHT
DTSTART:20260329T030000
TZOFFSETFROM:+0100
TZOFFSETTO:+0200
TZNAME:CEST
END:DAYLIGHT
END:VTIMEZONE
END:VCALENDAR