BEGIN:VCALENDAR
VERSION:2.0
PRODID:-//wp-events-plugin.com//7.2.3.1//EN
TZID:Europe/Berlin
X-WR-TIMEZONE:Europe/Berlin
BEGIN:VEVENT
UID:0-245@gcl.de
DTSTART;TZID=Europe/Berlin;VALUE=DATE:20260712
DTEND;TZID=Europe/Berlin;VALUE=DATE:20260720
DTSTAMP:20251017T090730Z
URL:https://gcl.de/veranstaltungen/einzelexerzitien-8-tage-26/
SUMMARY:Einzelexerzitien - 8 Tage
DESCRIPTION:Elemente:\n- durchgängiges Schweigen\n- persönliche Gebetszei
 ten\n- tägliches Begleitgespräch\n- Übungen zur Körperwahrnehmung\n- F
 eier der Eucharistie\n\nBegleitung:\nGerlinde Neufurth\, Mainz\nMarcus Vol
 pert\, München\n\nAnmeldung:\nErzabtei St. Ottilien\, Exerzitienhaus\nTel
 .: 08193 71-601\; exhaus@ottilien.de\nHomepage
ATTACH;FMTTYPE=image/jpeg:https://gcl.de/wp-content/uploads/2023/10/symbol
 bild_ignatianisch_01-1.jpg
CATEGORIES:Einzelexerzitien,Exerzitien
LOCATION:Exerzitienhaus St. Ottilien\, Erzabtei 1\, St. Ottilien\, Bayern\,
  86941\, Deutschland
X-APPLE-STRUCTURED-LOCATION;VALUE=URI;X-ADDRESS=Erzabtei 1\, St. Ottilien\,
  Bayern\, 86941\, Deutschland;X-APPLE-RADIUS=100;X-TITLE=Exerzitienhaus St
 . Ottilien:geo:0,0
END:VEVENT
BEGIN:VTIMEZONE
TZID:Europe/Berlin
X-LIC-LOCATION:Europe/Berlin
BEGIN:DAYLIGHT
DTSTART:20260329T030000
TZOFFSETFROM:+0100
TZOFFSETTO:+0200
TZNAME:CEST
END:DAYLIGHT
END:VTIMEZONE
END:VCALENDAR