BEGIN:VCALENDAR
VERSION:2.0
PRODID:-//wp-events-plugin.com//7.2.3.1//EN
TZID:Europe/Berlin
X-WR-TIMEZONE:Europe/Berlin
BEGIN:VEVENT
UID:0-250@gcl.de
DTSTART;TZID=Europe/Berlin;VALUE=DATE:20260830
DTEND;TZID=Europe/Berlin;VALUE=DATE:20260907
DTSTAMP:20250912T105933Z
URL:https://gcl.de/veranstaltungen/einzelexerzitien-8-tage-27/
SUMMARY:Einzelexerzitien - 8 Tage
DESCRIPTION:Elemente:\n- durchgehendes Schweigen\n- persönliche Gebetszeit
 en\n- tägliches Begleitgespräch\n- Übungen zur Körperwahrnehmung\n- Fe
 ier der Eucharistie\n\nBegleitung:\nP. Herbert Graupner SJ\, München\nMon
 ika Hirschauer\, Vaterstetten\n\nAnmeldung:\nExerzitienhaus Schloss Fürst
 enried\nTel.: 089 7450829-34\; exerzitien@schloss-fuerstenried.de\nHomepag
 e
ATTACH;FMTTYPE=image/jpeg:https://gcl.de/wp-content/uploads/2023/06/Fuerst
 enried.jpg
CATEGORIES:Einzelexerzitien,Exerzitien
LOCATION:Exerzitienhaus Schloss Fürstenried\, Forst-Kasten-Allee 103\, Mü
 nchen\, Bayern\, 81475\, Deutschland
X-APPLE-STRUCTURED-LOCATION;VALUE=URI;X-ADDRESS=Forst-Kasten-Allee 103\, M
 ünchen\, Bayern\, 81475\, Deutschland;X-APPLE-RADIUS=100;X-TITLE=Exerziti
 enhaus Schloss Fürstenried:geo:0,0
END:VEVENT
BEGIN:VTIMEZONE
TZID:Europe/Berlin
X-LIC-LOCATION:Europe/Berlin
BEGIN:DAYLIGHT
DTSTART:20260329T030000
TZOFFSETFROM:+0100
TZOFFSETTO:+0200
TZNAME:CEST
END:DAYLIGHT
END:VTIMEZONE
END:VCALENDAR