BEGIN:VCALENDAR
VERSION:2.0
PRODID:-//wp-events-plugin.com//7.2.3.1//EN
TZID:Europe/Berlin
X-WR-TIMEZONE:Europe/Berlin
BEGIN:VEVENT
UID:0-262@gcl.de
DTSTART;TZID=Europe/Berlin:20261101T150000
DTEND;TZID=Europe/Berlin:20261108T131500
DTSTAMP:20250917T111814Z
URL:https://gcl.de/veranstaltungen/einzelexerzitien-8-tage-29/
SUMMARY:Einzelexerzitien - 8 Tage
DESCRIPTION:Diese geistlichen Übungen helfen\, im Ganzen des eigenen Leben
 s die wirksame Gegenwart Gottes zu entdecken. So öffnen sie einen Weg\, i
 mmer tiefer in spürbare\, lebendige Gottes-/Christusbeziehung hineinzuwac
 hsen und daraus alles Denken und Handeln prägen zu lassen.\n\nElemente de
 s Kurses:\n- durchgehendes Schweigen\n- persönliche Gebets- und Betrachtu
 ngszeiten\n- individuelle Begleitung im täglichen Gespräch\n- Hinweise f
 ür das persönliche Beten\n- Morgenlob und Eucharistiefeier\n\nBegleitung
 :\nDaniela Frank\, Augsburg\nPfr. Liudger Gottschlich\n\nKosten insgesamt:
  790 EUR\n\nAnmeldung:\nBildungs- und Exerzitienhaus St. Bonifatius\nTel.:
  02981 9273-0\; info@bonifatius-elkeringhausen.de\nOnline-Anmeldung
ATTACH;FMTTYPE=image/jpeg:https://gcl.de/wp-content/uploads/2023/07/Exerzi
 tien_bibel_ignatianisch.jpg
CATEGORIES:Einzelexerzitien,Exerzitien
LOCATION:Bildungs- und Exerzitienhaus St. Bonifatius\, Bonifatiusweg 1-5\, 
 Winterberg-Elkeringhausen\, 59955\, Deutschland
X-APPLE-STRUCTURED-LOCATION;VALUE=URI;X-ADDRESS=Bonifatiusweg 1-5\, Winterb
 erg-Elkeringhausen\, 59955\, Deutschland;X-APPLE-RADIUS=100;X-TITLE=Bildun
 gs- und Exerzitienhaus St. Bonifatius:geo:0,0
END:VEVENT
BEGIN:VTIMEZONE
TZID:Europe/Berlin
X-LIC-LOCATION:Europe/Berlin
BEGIN:STANDARD
DTSTART:20261025T020000
TZOFFSETFROM:+0200
TZOFFSETTO:+0100
TZNAME:CET
END:STANDARD
END:VTIMEZONE
END:VCALENDAR