BEGIN:VCALENDAR
VERSION:2.0
PRODID:-//wp-events-plugin.com//7.2.3.1//EN
TZID:Europe/Berlin
X-WR-TIMEZONE:Europe/Berlin
BEGIN:VEVENT
UID:0-255@gcl.de
DTSTART;TZID=Europe/Berlin:20260907T000000
DTEND;TZID=Europe/Berlin:20260911T000000
DTSTAMP:20250916T122235Z
URL:https://gcl.de/veranstaltungen/einzelexerzitien-mit-aikido-impulsen-8-
 tage/
SUMMARY:Einzelexerzitien mit AIKIDO-Impulsen - 8 Tage
DESCRIPTION:AIKIDO ist ein Übungsweg der Körper und Geist entwickelt. Gru
 ndlage ist eine rein defensive japanische Kampfkunst\, die ursprünglich a
 us dem Führen des Schwertes stammt. AIKIDO übt die richtige Haltung ein\
 , die Koordination von Bewegung und Atmung\, die Suche nach der Körpermit
 te. Kraft und Lebensenergie kommt in Fluss. Die langsamen\, harmonischen B
 ewegungen mit dem Holzschwert "Bokken" können symbolhaft für die Dynamik
 en und Themen des Lebens stehen.\n\nSICH ORDNEN\nZURÜCKTRETEN\nSICH ÖFFN
 EN\nANTWORTEN\n\nsind die Grundhaltungen der AIKIDO- und Achtsamkeitsübun
 gen. Zusammen mit den geistlichen Impulsen laden sie ein\, der persönlich
 en Lebensdynamik\, der Sehnsucht und den Kraftquellen nochzuspüren. Sie h
 elfen\, immer mehr die Spuren Gottes im Leben wahrzunehmen und ihnen zu fo
 lgen - und so bei sich selbst und bei Gott anzukommen.\n\nElemente der Exe
 rzitien:\n- gemeinsame inhaltliche Impulse und Gebetszeiten\n- persönlich
 e Gebetszeiten\n- tägliche Begleitgespräche\n- durchgängiges Schweigen\
 n- Körperübungen\, unter anderem mit dem japanischen Holzschwert Bokken\
 , finden 2-mal täglich jeweils ca. 25 Minuten im Freien statt. Die Holzsc
 hwerter werden zur Verfügung gestellt\, es sind keine Vorkenntnisse notwe
 ndig.\n\nWeitere Informationen: aikidoexerzitien.de\n\nBegleitung:\nSr. Be
 atrix Barth OSF\, Oberzell\nRuth und Matthias Helfrich\, Rupertsbuch\n\nAn
 meldung:\nHaus Klara\nTel.: 0931 4601-251\; haus-klara@oberzell.de\nHomepa
 ge
ATTACH;FMTTYPE=image/jpeg:https://gcl.de/wp-content/uploads/2023/10/Kerzen
 _Lichter.jpg
CATEGORIES:Einzelexerzitien,Exerzitien
LOCATION:Haus Klara  Oberzell\, Kloster Oberzell 2\, Zell am Main \, Bayern
 \, 97299\, Unterfranken\, Deutschland
X-APPLE-STRUCTURED-LOCATION;VALUE=URI;X-ADDRESS=Kloster Oberzell 2\, Zell a
 m Main \, Bayern\, 97299\, Unterfranken\, Deutschland;X-APPLE-RADIUS=100;X
 -TITLE=Haus Klara  Oberzell:geo:0,0
END:VEVENT
BEGIN:VTIMEZONE
TZID:Europe/Berlin
X-LIC-LOCATION:Europe/Berlin
BEGIN:DAYLIGHT
DTSTART:20260329T030000
TZOFFSETFROM:+0100
TZOFFSETTO:+0200
TZNAME:CEST
END:DAYLIGHT
END:VTIMEZONE
END:VCALENDAR