BEGIN:VCALENDAR
VERSION:2.0
PRODID:-//wp-events-plugin.com//7.2.3.1//EN
TZID:Europe/Berlin
X-WR-TIMEZONE:Europe/Berlin
BEGIN:VEVENT
UID:0-248@gcl.de
DTSTART;TZID=Europe/Berlin:20260820T170000
DTEND;TZID=Europe/Berlin:20260827T093000
DTSTAMP:20251204T101603Z
URL:https://gcl.de/veranstaltungen/einzelexerzitien-mit-aikido-impulsen/
SUMMARY:Einzelexerzitien mit AIKIDO-Impulsen
DESCRIPTION:AIKIDO ist ein Übungsweg der Körper und Geist entwickelt. Gru
 ndlage ist eine rein defensive japanische Kampfkunst\, die ursprünglich a
 us dem Führen des Schwertes stammt. AIKIDO übt die richtige Haltung ein\
 , die Koordination von Bewegung und Atmung\, die Suche nach der Körpermit
 te. Kraft und Lebensenergie kommen in Fluss.\nDie langsamen\, harmonischen
  Bewegungen mit dem Holzschwert "Bokken" können symbolhaft für die Dynam
 iken und Themen des Lebens stehen.\n\nSICH ORDNEN\nZURÜCKTRETEN\nSICH ÖF
 FNEN\nANTWORTEN\n\nsind die Grundhaltungen der AIKIDO- und Achtsamkeitsüb
 ungen. Zusammen mit den geistlichen Impulsen laden sie ein\, der persönli
 chen Lebensdynamik\, der Sehnsucht und den Kraftquellen nachzuspüren.\nSi
 e helfen\, immer mehr die Spuren Gottes im Leben wahrzunehmen und ihnen zu
  folgen - und so bei sich selbst und bei Gott anzukommen.\n\nElemente der 
 Exerzitien:\n- gemeinsame inhaltliche Impulse und Gebetszeiten\n- persönl
 iche Gebetszeiten\n- tägliches Begleitgespräch\n- durchgängiges Schweig
 en\n- Körperübungen\, unter anderem mit dem japanischen Holzschwert Bokk
 en\, finden 2-mal täglich jeweils ca. 25 Minuten im Freien statt. Die Hol
 zschwerter werden zur Verfügung gestellt\, es sind keine Vorkenntnisse no
 twendig.\n\nBegleitung: Ruth und Matthias Helfrich\, Rupertsbuch\n\nHausko
 sten: 490 EUR\n\nKursgebühr: 225 EUR\n\nweitere Informationen siehe Flyer
 \n\nAnmeldung:\nHaus HohenEichen\nTel.: 0351 26164-10\; info@haus-hoheneic
 hen.de\nOnline-Anmeldung
ATTACH;FMTTYPE=image/jpeg:https://gcl.de/wp-content/uploads/2023/03/aikido
 _bild.png
CATEGORIES:Einzelexerzitien,Exerzitien,Exerzitien mit Impulsen
LOCATION:Haus HohenEichen\, Dresdner Str. 73\, Dresden\, 01326\, Deutschlan
 d
X-APPLE-STRUCTURED-LOCATION;VALUE=URI;X-ADDRESS=Dresdner Str. 73\, Dresden\
 , 01326\, Deutschland;X-APPLE-RADIUS=100;X-TITLE=Haus HohenEichen:geo:0,0
END:VEVENT
BEGIN:VTIMEZONE
TZID:Europe/Berlin
X-LIC-LOCATION:Europe/Berlin
BEGIN:DAYLIGHT
DTSTART:20260329T030000
TZOFFSETFROM:+0100
TZOFFSETTO:+0200
TZNAME:CEST
END:DAYLIGHT
END:VTIMEZONE
END:VCALENDAR