BEGIN:VCALENDAR
VERSION:2.0
PRODID:-//wp-events-plugin.com//7.2.3.1//EN
TZID:Europe/Berlin
X-WR-TIMEZONE:Europe/Berlin
BEGIN:VEVENT
UID:0-241@gcl.de
DTSTART;TZID=Europe/Berlin:20260525T180000
DTEND;TZID=Europe/Berlin:20260531T090000
DTSTAMP:20260210T101605Z
URL:https://gcl.de/veranstaltungen/einzelexerzitien-mit-bibliodrama-elemen
 ten/
SUMMARY:Einzelexerzitien mit Bibliodrama-Elementen
DESCRIPTION:Elemente dieser Exerzitien sind\n- durchgehendes Schweigen\n- t
 ägliches Begleitgespräch\n- Bibliolog/Bibliodrama-Element in der Gruppe\
 n- Morgenlob\n- Feier der Eucharistie bzw. Wort-Gottes-Feier\n- persönlic
 he und gemeinsame Gebetszeiten\n\nBei Bibliolog und Bibliodrama geht es da
 rum\, uns in "Beteiligte" einer biblichen Geschichte so hineinzuversetzen\
 , als wären wir mittendrin. So können der biblische Text und unser ganz 
 persönliches Leben miteinander in Kontakt kommen.\n\nBegleitung:\nVeronik
 a Jodlbauer\, München\nThomas Lechner\, Augsburg\n\nKosten: 506 EUR\n\nAn
 meldung:\nExerzitienhaus Leitershofen\, St. Paulus\nTel.: 0821 90754-0\; i
 nfo@exerzitienhaus.org\nOnline-Anmeldung\n\nNähere Informationen dazu auc
 h im dazugehörigen Flyer
ATTACH;FMTTYPE=image/jpeg:https://gcl.de/wp-content/uploads/2023/10/frau_l
 iest_bibel_in_natur_02.jpg
CATEGORIES:Einzelexerzitien,Exerzitien,Exerzitien mit
 Bibliodrama-Elementen
LOCATION:Exerzitienhaus St. Paulus\, Krippackerstr. 6\, Stadtbergen\, Bayer
 n\, 86391\, Augsburg\, Deutschland
X-APPLE-STRUCTURED-LOCATION;VALUE=URI;X-ADDRESS=Krippackerstr. 6\, Stadtber
 gen\, Bayern\, 86391\, Augsburg\, Deutschland;X-APPLE-RADIUS=100;X-TITLE=E
 xerzitienhaus St. Paulus:geo:0,0
END:VEVENT
BEGIN:VTIMEZONE
TZID:Europe/Berlin
X-LIC-LOCATION:Europe/Berlin
BEGIN:DAYLIGHT
DTSTART:20260329T030000
TZOFFSETFROM:+0100
TZOFFSETTO:+0200
TZNAME:CEST
END:DAYLIGHT
END:VTIMEZONE
END:VCALENDAR