BEGIN:VCALENDAR
VERSION:2.0
PRODID:-//wp-events-plugin.com//7.2.3.1//EN
TZID:Europe/Berlin
X-WR-TIMEZONE:Europe/Berlin
BEGIN:VEVENT
UID:0-296@gcl.de
DTSTART;TZID=Europe/Berlin:20260905T000000
DTEND;TZID=Europe/Berlin:20260913T000000
DTSTAMP:20260218T162147Z
URL:https://gcl.de/veranstaltungen/entscheidungspilgern-am-camino-ignacian
 o/
SUMMARY:Find your fire – Entscheidungspilgern am Camino Ignaciano
DESCRIPTION:Komm mit uns auf den Weg: Von Loyola im Baskenland bis nach Nav
 arrete bei Logrono folgen wir den Spuren des Ignatius von Loyola - und auc
 h den eigenen.\nAuf rund 25 km pro Tag wird's körperlich fordernd\, aber 
 innerlich erfüllend: Einfache Unterkünfte\, Morgen- und Abendlob\, Impul
 se\, Stille &amp\; geistliche Begleitung geben dem Weg Tiefe.\nWenn du sp
 ürst\, dass eine Entscheidung ansteht\, oder suchst\, was dich wirklich e
 rfüllt - dann pack deinen Rucksack und entdecke\, welche Spur dich zu Fre
 ude und neuer Klarheit führt.\n\nAn- und Abreise sind selbst zu organisie
 ren. Vorgespräch nötig! Anmeldung bis 15. April\n\nBegleitung: Br. Micha
 el Hainz SJ und Sr. Christine Klimann s.a.\nInfos und Anmeldung: Fon +49(0
 )178 196 1592\, michael.hainz@jesuiten.org\nKosten: 650 € plus An- und R
 ückreise
ATTACH;FMTTYPE=image/jpeg:https://gcl.de/wp-content/uploads/2026/02/Camino
 -Flyer-Auszug.jpg
CATEGORIES:Für junge Erwachsene,Pilgern
END:VEVENT
BEGIN:VTIMEZONE
TZID:Europe/Berlin
X-LIC-LOCATION:Europe/Berlin
BEGIN:DAYLIGHT
DTSTART:20260329T030000
TZOFFSETFROM:+0100
TZOFFSETTO:+0200
TZNAME:CEST
END:DAYLIGHT
END:VTIMEZONE
END:VCALENDAR