BEGIN:VCALENDAR
VERSION:2.0
PRODID:-//wp-events-plugin.com//7.2.3.1//EN
TZID:Europe/Berlin
X-WR-TIMEZONE:Europe/Berlin
BEGIN:VEVENT
UID:0-216@gcl.de
DTSTART;TZID=Europe/Berlin:20260812T150000
DTEND;TZID=Europe/Berlin:20260816T130000
DTSTAMP:20260410T113855Z
URL:https://gcl.de/veranstaltungen/exerzitien-fuer-einsteigerinnen-in-koop
 eration-mit-dem-kloster-nette/
SUMMARY:Exerzitien für Einsteigerinnen und Einsteiger in Kooperation mit d
 em Kloster Nette
DESCRIPTION:Suchst du nach der Gelegenheit\, unterschiedliche Gebetsweisen 
 kennenzulernen\, um das persönliche Beten im Alltag neu zu strukturieren?
  Willst Du Dir eine Auszeit gönnen\, möchtest aber (noch?) nicht “Exer
 zitien” in Reinform\, d. h. im tagelangen Schweigen erleben?\nDann ist d
 ieser Schnupperkurs genau das richtige für Dich!\n\nDie Tage sind von fol
 genden Elementen geprägt:\n– gemeinsames Morgen- und Abendgebet mit unt
 erschiedlichen Gebetsansätzen\n– einfache Körperübungen als Hilfe zum
  Wahrnehmen und Spüren\n– Einüben verschiedener bibelzentrierter Gebet
 s- und Meditationsweisen: ignatianische Bibelbetrachtung\, ignatianischer 
 Tagesrückblick\, Lectio Divina in benediktinischer Tradition\, Bibliodram
 a-Elemente als Vorbereitung und Vertiefung der Bibelbetrachtung\, gemeinsa
 mes Beten im Schweigen an einem Tag\n– Einführung und Einübung von gei
 stlichem Austausch in der Gruppe\n– auf Wunsch Einzelgespräche und je n
 ach Möglichkeit Eucharistiefeier.\n\nDer Kurs ist besonders für junge Er
 wachsene geeignet.\n\nBegleitung:\nSr. M. Rita Niehaus\, Osnabrück\nRober
 to Piani\, Osnabrück\n\nGesamtkosten:\n320\,00 €\; ermäßigt 267\,00 
 €
ATTACH;FMTTYPE=image/jpeg:https://gcl.de/wp-content/uploads/2025/08/Exerzi
 tienhaus.jpg
CATEGORIES:Exerzitien,Exerzitien mit Impulsen,Für junge
 Erwachsene,Geistliche Tage
LOCATION:Exerzitienhaus Kloster Nette\, Östringer Weg 120\, Osnabrück\, N
 iedersachsen\, 49090\, Deutschland
X-APPLE-STRUCTURED-LOCATION;VALUE=URI;X-ADDRESS=Östringer Weg 120\, Osnabr
 ück\, Niedersachsen\, 49090\, Deutschland;X-APPLE-RADIUS=100;X-TITLE=Exer
 zitienhaus Kloster Nette:geo:0,0
END:VEVENT
BEGIN:VTIMEZONE
TZID:Europe/Berlin
X-LIC-LOCATION:Europe/Berlin
BEGIN:DAYLIGHT
DTSTART:20260329T030000
TZOFFSETFROM:+0100
TZOFFSETTO:+0200
TZNAME:CEST
END:DAYLIGHT
END:VTIMEZONE
END:VCALENDAR