BEGIN:VCALENDAR
VERSION:2.0
PRODID:-//wp-events-plugin.com//7.2.3.1//EN
TZID:Europe/Berlin
X-WR-TIMEZONE:Europe/Berlin
BEGIN:VEVENT
UID:0-252@gcl.de
DTSTART;TZID=Europe/Berlin;VALUE=DATE:20260831
DTEND;TZID=Europe/Berlin;VALUE=DATE:20260907
DTSTAMP:20250916T114541Z
URL:https://gcl.de/veranstaltungen/exerzitien-mit-impulsen-7-tage-3/
SUMMARY:Exerzitien mit Impulsen - 7 Tage
DESCRIPTION:In Exerzitien mit Impulsen liegt der Akzent deutlicher als bei 
 Einzelexerzitien auf der Erfahrung des gemeinschaftlichen Unterwegsseins\,
  was sich zum Teil durch Austausch in der Gruppe konkretisiert. Je nach L
 änge der Angebote beinhalten sie folgende Elemente:\n- Impulse in der Gru
 ppe\n- Zeiten der Stille/durchgehendes Schweigen\n- Anregung zum persönli
 chen Beten\n- Möglichkeit zum Einzelgespräch/tägliches Begleitgespräch
 \n- Übungen zur Körperwahrnehmung\n- Feier der Eucharistie\n\nBegleitung
 :\nP. Clemens Koch OSB\, Dorfbeuern\nBrigitta Neckermann-Lipp\, Burghausen
 \nJohanna Skiba\, Bad Griesbach\n\nAnmeldung:\nHaus der Begegnung HEILIG G
 EIST\nTel.: 08677 917070\; hdb-heiliggeist@bistum-passau.de\nHomepage
ATTACH;FMTTYPE=image/jpeg:https://gcl.de/wp-content/uploads/2023/10/Semina
 rraum_02.jpg
CATEGORIES:Exerzitien,Exerzitien mit Impulsen
LOCATION:Haus der Begegnung HEILIG GEIST\, Spitalgasse 207\, Burghausen\, 8
 4489\, Deutschland
X-APPLE-STRUCTURED-LOCATION;VALUE=URI;X-ADDRESS=Spitalgasse 207\, Burghause
 n\, 84489\, Deutschland;X-APPLE-RADIUS=100;X-TITLE=Haus der Begegnung HEIL
 IG GEIST:geo:0,0
END:VEVENT
BEGIN:VTIMEZONE
TZID:Europe/Berlin
X-LIC-LOCATION:Europe/Berlin
BEGIN:DAYLIGHT
DTSTART:20260329T030000
TZOFFSETFROM:+0100
TZOFFSETTO:+0200
TZNAME:CEST
END:DAYLIGHT
END:VTIMEZONE
END:VCALENDAR