BEGIN:VCALENDAR
VERSION:2.0
PRODID:-//wp-events-plugin.com//7.2.3.1//EN
TZID:Europe/Berlin
X-WR-TIMEZONE:Europe/Berlin
BEGIN:VEVENT
UID:0-306@gcl.de
DTSTART;TZID=Europe/Berlin:20261027T000000
DTEND;TZID=Europe/Berlin:20261210T000000
DTSTAMP:20260408T093336Z
URL:https://gcl.de/veranstaltungen/friede-sei-mit-euch-oekumenische-exerzi
 tien-im-alltag/
SUMMARY:«Friede sei mit euch.» Ökumenische Exerzitien im Alltag
DESCRIPTION:Exerzitien im Alltag\nIn den Exerzitien im Alltag intensivieren
  wir für fünf Wochen unser\npersönliches Gebetsleben zu Hause. Gebet
  und Alltag greifen\nineinander und bereichern sich gegenseitig. Im Vorder
 grund\nstehen zwei Gebetszeiten: Der Tagesimpuls (20–30 min) und der\nTa
 gesrückblick (5–15 min). Dafür erhalten alle Teilnehmenden ein\nHeft
  und weitere Materialien. Wir lernen neue Wege im Gebet\nkennen und führ
 en Vertrautes weiter. So besteht eine Offenheit\nfür die Eigenheiten der
  verschiedenen Konfessionen.\nDas Wort Exerzitien wird übersetzt mit Übu
 ngen. Für die\npersönlichen Gebetszeiten braucht es keine Vorerfahrung
 en\,\njedoch Entschlossenheit und Übung wie im Sport und in der\nKunst. 
 Wir sind nicht allein unterwegs: Die Gemeinschaft an den\nAbenden stärkt
  uns. Hier erhalten wir neue Impulse für die Woche\nund tauschen uns ü
 ber unsere Gebetserfahrungen aus. Wir teilen\nSchwierigkeiten und dürfen
  uns an den verschiedenen Schätzen\nfreuen. Da der Austausch persönlic
 h wird\, bleibt alles\nBesprochene in der Gruppe. Darüber hinaus laden wi
 r alle\nTeilnehmenden zu ein bis zwei Einzelgesprächen ein.\nNachrichten 
 von Krieg und Gewalt an vielen Orten weltweit\nprägen unseren Alltag. Wie
  gehen wir mit dieser leidvollen Realität\num? Wir möchten in diesen Exe
 rzitien im Alltag den Frieden\nthematisieren – nicht wie die Welt ihn gi
 bt\, sondern wie Christus\nihn uns schenken will. In unseren Gebeten geben
  uns biblische\nTexte eine Grundlage. Was sie in uns auslösen\, können 
 wir mit\nunserem Leben verbinden und vor Gott bringen.\n\nÖkumenisch – 
 Für Menschen aus allen Konfessionen.\nExerzitien im Alltag laden ein\, im
  gewöhnlichen Alltag Zeit für Stille\,\nGebet und persönliche Glaubense
 rfahrungen zu finden.\n\nDie fünf Wochen der Exerzitien im Alltag werden 
 umrahmt von sechs \nwöchentlichen Online-Abenden. Im Zentrum der Abende s
 teht der\nAustausch über die Gebetserfahrungen.\n\nInformationsabende (on
 line per Zoom):\nDienstag\, 27. Oktober oder Donnerstag\, 29. Oktober 2025
 \, 19.30 –\n21.30 Uhr\nEinführung in Ablauf und Hintergrund der Exerzit
 ien im Alltag sowie ein\nerster Einblick in die Gebetszeiten.\nVerpflichte
 nd für Personen\, die erstmals teilnehmen.\nBei Verhinderung suchen wir g
 emeinsam nach einer Lösung.\n\nGruppentreffen im Herbst (online per Zoom)
 \nGruppe 1 - Dienstag\n3.\, 10.\, 17.\, 24. November\, 1.\, 8. Dezember\, 
 19.30 – 21.30 Uhr\nGruppe 2 - Donnerstag\n5.\, 12.\, 19.\, 26. November\
 , 3.\, 10. Dezember\, 19.30 – 21.30 Uhr\n\nKosten: 40 €\; Studierende:
  15 €\nÜber eine Spende für die GCL würden wir uns freuen.\n\nAnmeldu
 ng bis Montag\, 5. Oktober an: - Martin Bergers\, bildungsynodal@protonmai
 l.ch\, ++41 79 350 34 91 - GCL D Nationalsekretariat: sekretariat@gcl.de\,
  ++49 821 34668-0\nBitte angeben: Name\, Mail- und Postadresse\, mögliche
  und bevorzugte\nGruppe (Dienstag oder Donnerstag)\; Begrenzte Teilnehmerz
 ahl!\nVeranstalter: Gemeinschaft Christlichen Lebens (GCL)\; Mehr Infos:\n
 www.gcl-cvx.ch\; Mit Bericht vom letzten Jahr\n\nLeitung: Martin Bergers\,
  GCL Schweiz\, Mitglied im Leitungsteam Schweiz\nvon 2023 – 2026\, Resso
 rt Bildung und Jugend\, selbständiger Referent\nTeam: Mirjam und Joel Hal
 ler-Gloor\, Raffaello Müller\, Rita Lussi\, Anja Früh und weitere\n\nFly
 er 
ATTACH;FMTTYPE=image/jpeg:https://gcl.de/wp-content/uploads/2026/04/Exerzi
 tien-im-Alltag.png
CATEGORIES:Exerzitien,Online-Exerzitien
END:VEVENT
BEGIN:VTIMEZONE
TZID:Europe/Berlin
X-LIC-LOCATION:Europe/Berlin
BEGIN:STANDARD
DTSTART:20261025T020000
TZOFFSETFROM:+0200
TZOFFSETTO:+0100
TZNAME:CET
END:STANDARD
END:VTIMEZONE
END:VCALENDAR