BEGIN:VCALENDAR
VERSION:2.0
PRODID:-//wp-events-plugin.com//7.2.3.1//EN
TZID:Europe/Berlin
X-WR-TIMEZONE:Europe/Berlin
BEGIN:VEVENT
UID:0-208@gcl.de
DTSTART;TZID=Europe/Berlin;VALUE=DATE:20260525
DTEND;TZID=Europe/Berlin;VALUE=DATE:20260601
DTSTAMP:20250620T110300Z
URL:https://gcl.de/veranstaltungen/ignatianische-einzelexerzitien-fuer-ein
 steiger-innen-und-fortgeschrittene-komm-schoepfer-geist-kehr-bei-uns-ein/
SUMMARY:Ignatianische Einzelexerzitien für Einsteiger/innen und Fortgeschr
 ittene - "Komm\, Schöpfer Geist\, kehr bei uns ein!"
DESCRIPTION:"Gottes Liebe ist ausgegossen in unsere Herzen durch den Heilig
 en Geist\, der uns gegeben ist" (Röm 5\,5)\n\nExerzitien sind ein geistli
 cher Übungsweg\, der helfen will bei der Suche nach Gott\, nach sich selb
 st und einem erfüllten Leben aus dem christlichen Glauben.\n\nElemente di
 eses Exerzitienangebots sind:\n- Morgenlob mit Leib und Seele\n- persönli
 che Gebetszeiten (Beten mit der Heiligen Schrift)\n- durchgehendes Schweig
 en\n- tägliches Einzelgespräch mit dem/der Exerzitienbegleiter/in\n- Fei
 er der Eucharistie in der Exerzitiengruppe\n\nLeitung:\nEdna Auer\nPfr. Dr
 . Matthias Eller\n\nKursgebühr: 120 EUR\nUnterkunft:\n- 450 EUR im EZ mit
  Dusche/WC oder\n- 420 EUR im EZ mit Etagendusche\n\nAnmeldung:\nHaus Werd
 enfels\nTel.: 0940 495020\, E-Mail: buero@haus-werdenfels.de\nsiehe auch: 
 weitere Infos und Online-Anmeldung
ATTACH;FMTTYPE=image/jpeg:https://gcl.de/wp-content/uploads/2023/07/Einzel
 exerzitien_bild_blau.jpg
CATEGORIES:Einzelexerzitien,Exerzitien
LOCATION:Haus Werdenfels\, Waldweg 15\, Nittendorf\, Bayern\, 93152\, Deuts
 chland
X-APPLE-STRUCTURED-LOCATION;VALUE=URI;X-ADDRESS=Waldweg 15\, Nittendorf\, B
 ayern\, 93152\, Deutschland;X-APPLE-RADIUS=100;X-TITLE=Haus Werdenfels:geo
 :0,0
END:VEVENT
BEGIN:VTIMEZONE
TZID:Europe/Berlin
X-LIC-LOCATION:Europe/Berlin
BEGIN:DAYLIGHT
DTSTART:20260329T030000
TZOFFSETFROM:+0100
TZOFFSETTO:+0200
TZNAME:CEST
END:DAYLIGHT
END:VTIMEZONE
END:VCALENDAR