BEGIN:VCALENDAR
VERSION:2.0
PRODID:-//wp-events-plugin.com//7.2.3.1//EN
TZID:Europe/Berlin
X-WR-TIMEZONE:Europe/Berlin
BEGIN:VEVENT
UID:0-254@gcl.de
DTSTART;TZID=Europe/Berlin:20260906T180000
DTEND;TZID=Europe/Berlin:20260913T090000
DTSTAMP:20250916T122004Z
URL:https://gcl.de/veranstaltungen/ignatianische-einzelexerzitien-fuer-ein
 steigerinnen-und-geuebte-schweige-und-hoere/
SUMMARY:Ignatianische Einzelexerzitien für Einsteiger:innen und Geübte - 
 "Schweige und Höre"
DESCRIPTION:Exerzitientage sind eine Chance\, Gott im eigenen Leben wieder 
 neu zu entdecken\, das eigene Leben zu ordnen\, auf Gottes Stimme zu höre
 n und Impulse für den eigenen Lebensweg zu bekommen. Der Übungsweg der E
 xerzitien ist auf den persönlichen Weg der Einzelnen ausgerichtet.\n\nReg
 elmäßige Tageselemente:\n- durchgehendes Schweigen\n- gemeinsamer Tagese
 instieg\n- persönliche Gebetszeiten\n- Begleitgespräch\n- Hinweise für 
 das persönliche Beten\n- Eucharistiefeier\n\nBegleitung:\nPfr. Stefan Tau
 sch\, Dortmund\nSr. Christine Zeis MC\, Weilheim\n\nHauskosten:\n525 EUR i
 m EZ mit Du/WC\n490 EUR im EZ mit Etagendusche\n\nKursgebühr: 140 EUR\n\n
 Anmeldung:\nHaus Werdenfels\nTel.: 09404 9502-0: buero@haus-werdenfels.de\
 nOnline-Anmeldung
ATTACH;FMTTYPE=image/jpeg:https://gcl.de/wp-content/uploads/2023/07/Einzel
 exerzitien_bild_blau.jpg
CATEGORIES:Einzelexerzitien,Exerzitien
LOCATION:Haus Werdenfels\, Waldweg 15\, Nittendorf\, Bayern\, 93152\, Deuts
 chland
X-APPLE-STRUCTURED-LOCATION;VALUE=URI;X-ADDRESS=Waldweg 15\, Nittendorf\, B
 ayern\, 93152\, Deutschland;X-APPLE-RADIUS=100;X-TITLE=Haus Werdenfels:geo
 :0,0
END:VEVENT
BEGIN:VTIMEZONE
TZID:Europe/Berlin
X-LIC-LOCATION:Europe/Berlin
BEGIN:DAYLIGHT
DTSTART:20260329T030000
TZOFFSETFROM:+0100
TZOFFSETTO:+0200
TZNAME:CEST
END:DAYLIGHT
END:VTIMEZONE
END:VCALENDAR