BEGIN:VCALENDAR
VERSION:2.0
PRODID:-//wp-events-plugin.com//7.2.3.1//EN
TZID:Europe/Berlin
X-WR-TIMEZONE:Europe/Berlin
BEGIN:VEVENT
UID:0-267@gcl.de
DTSTART;TZID=Europe/Berlin:20260810T150000
DTEND;TZID=Europe/Berlin:20260814T131500
DTSTAMP:20251010T123808Z
URL:https://gcl.de/veranstaltungen/ignatianische-wanderexerzitien-du-fuehr
 st-mich-hinaus-ins-weite-ps-18-20/
SUMMARY:Ignatianische Wanderexerzitien: "Du führst mich hinaus ins Weite" 
 (Ps 18\, 20)
DESCRIPTION:Mit dieser ermutigenden Zusage dürfen neue Wege gewagt werden\
 , die sich auf IHN verlassen und IHM immer mehr glauben - dazu laden die i
 gnatianischen Wanderexerzitien ein. Draußen\, inmitten der Schöpfung\, k
 önnen die Gedanken zur Ruhe kommen und die Sinne neue Freiheit erfahren.\
 n\nDer persönliche Weg wird unterwegs individuell begleitet. Dazu gibt es
  regelmäßig wiederkehrende Tageselemente:\n- persönliche Gebets- und Re
 flexionszeiten (mehrfach am Tag)\n- Begleitgespräche (täglich\, während
  der Wanderung)\n- durchgängiges Schweigen (den ganzen Tag\, außer bei d
 en Begleitgesprächen)\n- Eucharistiefeier\n\nEingeladen sind Erwachsene m
 it Kondition und Ausdauer\, die etwa 20 km am Tag wandern können!\nWetter
 festes Schuhwerk ist erforderlich.\n\nBegleitung:\nMonika Amlinger\, Osnab
 rück\nPeter Göhlich\, Meppen\nUwe Sommer\, Winterberg\n\nKosten: 490 EUR
 \n\nAnmeldung:\nBildungs- und Exerzitienhaus St. Bonifatius\nTel.: 02981 9
 273-0\; info@bonifatius-elkeringhausen.de\nOnline-Anmeldung
ATTACH;FMTTYPE=image/jpeg:https://gcl.de/wp-content/uploads/2025/09/Wander
 exerzitien_august2026-1-Veranstaltungen_510x510.jpeg
CATEGORIES:Exerzitien
LOCATION:Bildungs- und Exerzitienhaus St. Bonifatius\, Bonifatiusweg 1-5\, 
 Winterberg-Elkeringhausen\, 59955\, Deutschland
X-APPLE-STRUCTURED-LOCATION;VALUE=URI;X-ADDRESS=Bonifatiusweg 1-5\, Winterb
 erg-Elkeringhausen\, 59955\, Deutschland;X-APPLE-RADIUS=100;X-TITLE=Bildun
 gs- und Exerzitienhaus St. Bonifatius:geo:0,0
END:VEVENT
BEGIN:VTIMEZONE
TZID:Europe/Berlin
X-LIC-LOCATION:Europe/Berlin
BEGIN:DAYLIGHT
DTSTART:20260329T030000
TZOFFSETFROM:+0100
TZOFFSETTO:+0200
TZNAME:CEST
END:DAYLIGHT
END:VTIMEZONE
END:VCALENDAR