BEGIN:VCALENDAR
VERSION:2.0
PRODID:-//wp-events-plugin.com//7.2.3.1//EN
TZID:Europe/Berlin
X-WR-TIMEZONE:Europe/Berlin
BEGIN:VEVENT
UID:0-295@gcl.de
DTSTART;TZID=Europe/Berlin:20260830T180000
DTEND;TZID=Europe/Berlin:20260905T090000
DTSTAMP:20260203T112746Z
URL:https://gcl.de/veranstaltungen/pace-e-bene-frieden-und-noch-viel-mehr-
 einzelexerzitien-7-tage/
SUMMARY:"Pace e bene! Frieden und noch viel mehr ..." - Einzelexerzitien\, 
 7 Tage
DESCRIPTION:Ignatianische Einzelexerzitien\n\nEinzelexerzitien sind gepräg
 t durch\n– durchgehendes Schweigen\n– persönliche Gebetszeiten\n– t
 ägliches Begleitgespräch\n– Übungen zur Körperwahrnehmung\n– Feier
  der Eucharistie\n\nLeitung und Begleitung\nDr. Christian Hartl\,\nSr. Mar
 tha Lang OSF\,\nRobert Mayr\nEdna Auer\n\nNäheres und Anmeldung hier.\n\n
 \n\n\n\n\n\n
ATTACH;FMTTYPE=image/jpeg:https://gcl.de/wp-content/uploads/2023/07/Einzel
 exerzitien_bild_blau.jpg
CATEGORIES:Einzelexerzitien,Exerzitien
LOCATION:Exerzitienhaus St. Paulus\, Krippackerstr. 6\, Stadtbergen\, Bayer
 n\, 86391\, Augsburg\, Deutschland
X-APPLE-STRUCTURED-LOCATION;VALUE=URI;X-ADDRESS=Krippackerstr. 6\, Stadtber
 gen\, Bayern\, 86391\, Augsburg\, Deutschland;X-APPLE-RADIUS=100;X-TITLE=E
 xerzitienhaus St. Paulus:geo:0,0
END:VEVENT
BEGIN:VTIMEZONE
TZID:Europe/Berlin
X-LIC-LOCATION:Europe/Berlin
BEGIN:DAYLIGHT
DTSTART:20260329T030000
TZOFFSETFROM:+0100
TZOFFSETTO:+0200
TZNAME:CEST
END:DAYLIGHT
END:VTIMEZONE
END:VCALENDAR