BEGIN:VCALENDAR
VERSION:2.0
PRODID:-//wp-events-plugin.com//7.2.3.1//EN
TZID:Europe/Berlin
X-WR-TIMEZONE:Europe/Berlin
BEGIN:VEVENT
UID:0-301@gcl.de
DTSTART;TZID=Europe/Berlin:20260911T180000
DTEND;TZID=Europe/Berlin:20260913T130000
DTSTAMP:20260410T115205Z
URL:https://gcl.de/veranstaltungen/sehnsucht-stille-gott-exerzitien-kennen
 lernen/
SUMMARY:Sehnsucht. Stille. Gott? - Exerzitien kennenlernen.
DESCRIPTION:Ein ganzes Wochenende Zeit für dich: Entdecke Gottes Spuren in
  deinem Leben – in Stille\, Gebet und gemeinsamem Austausch. Oder w
 ie es Ignatius beschreibt: „Gott in allem suchen und finden“.\nZugleic
 h geben diese Tage einen Einblick in die "ignatianischen Exerzitien" und s
 chaffen Raum\, sich damit ehrlich und offen auseinanderzusetzen. Welche 
 Erwartungen hast du an Exerzitien\, gibt es Ängste oder Befürchtungen\, 
 die du damit verbindest? Gemeinsam werden wir erkunden\, welche Mediations
 haltungen es gibt und diese auch ausprobieren.\nUnd natürlich gibt es auc
 h genügend Zeit\, bei Spaziergängen die Umgebung und Natur zu genießen.
  Die Zukunftswerkstatt SJ in Frankfurt bietet uns dazu einen schönen Rahm
 en mit Unterkunft und Verpflegung.\nWir freuen uns\, diese Tage gemeinsam 
 mit euch zu verbringen können.\nBegleitung: Stefanie Langel und P. Gunnar
  Bauer SJ
ATTACH;FMTTYPE=image/jpeg:https://gcl.de/wp-content/uploads/2026/03/Sehnsu
 cht-stille-gott-veranst.jpg
CATEGORIES:Für junge Erwachsene
LOCATION:Zukunftswerkstatt SJ\, Offenbacher Landstraße 224\, Frankfurt am 
 Main\, 60599\, Deutschland
X-APPLE-STRUCTURED-LOCATION;VALUE=URI;X-ADDRESS=Offenbacher Landstraße 224
 \, Frankfurt am Main\, 60599\, Deutschland;X-APPLE-RADIUS=100;X-TITLE=Zuku
 nftswerkstatt SJ:geo:0,0
END:VEVENT
BEGIN:VTIMEZONE
TZID:Europe/Berlin
X-LIC-LOCATION:Europe/Berlin
BEGIN:DAYLIGHT
DTSTART:20260329T030000
TZOFFSETFROM:+0100
TZOFFSETTO:+0200
TZNAME:CEST
END:DAYLIGHT
END:VTIMEZONE
END:VCALENDAR