BEGIN:VCALENDAR
VERSION:2.0
PRODID:-//wp-events-plugin.com//7.2.3.1//EN
TZID:Europe/Berlin
X-WR-TIMEZONE:Europe/Berlin
BEGIN:VEVENT
UID:0-60@gcl.de
DTSTART;TZID=Europe/Berlin:20270816T160000
DTEND;TZID=Europe/Berlin:20270821T100000
DTSTAMP:20240617T121831Z
URL:https://gcl.de/veranstaltungen/testveranstaltung/
SUMMARY:Testveranstaltung
DESCRIPTION:Dies ist ein Test und keine tatsächliche Veranstaltung. Da wir
  auf ein neues Buchungssystem umgestiegen sind\, müssen wir manche Featur
 es im "echten" Live-Modus testen. Bitte einfach ignorieren. Danke.
ATTACH;FMTTYPE=image/jpeg:https://gcl.de/wp-content/uploads/2023/05/Platzh
 alter-Veranstaltungen.jpg
LOCATION:Haus HohenEichen\, Dresdner Str. 73\, Dresden\, 01326\, Deutschlan
 d
X-APPLE-STRUCTURED-LOCATION;VALUE=URI;X-ADDRESS=Dresdner Str. 73\, Dresden\
 , 01326\, Deutschland;X-APPLE-RADIUS=100;X-TITLE=Haus HohenEichen:geo:0,0
END:VEVENT
BEGIN:VTIMEZONE
TZID:Europe/Berlin
X-LIC-LOCATION:Europe/Berlin
BEGIN:DAYLIGHT
DTSTART:20270328T030000
TZOFFSETFROM:+0100
TZOFFSETTO:+0200
TZNAME:CEST
END:DAYLIGHT
END:VTIMEZONE
END:VCALENDAR