BEGIN:VCALENDAR
VERSION:2.0
PRODID:-//wp-events-plugin.com//7.2.3.1//EN
TZID:Europe/Berlin
X-WR-TIMEZONE:Europe/Berlin
BEGIN:VEVENT
UID:0-310@gcl.de
DTSTART;TZID=Europe/Berlin:20260823T120000
DTEND;TZID=Europe/Berlin:20260829T140000
DTSTAMP:20260410T113247Z
URL:https://gcl.de/veranstaltungen/wanderexerzitien-salzburger-almenweg-oe
 sterreich/
SUMMARY:Wanderexerzitien - Salzburger Almenweg (Österreich)
DESCRIPTION:In der Natur unterwegs sein und diese mit allen Sinnen erleben\
 , über Gott\, die Welt und das eigene Leben nachdenken – das alles kann
 st du bei den Wanderexerzitien!\n\nEs erwarten dich tägliche mehrstündig
 e Wanderungen von Hütte zu Hütte\, geistliche Impulse\, gute Gespräche\
 , Gottesdienste mit Bergpanorama\, eine Gruppe\, mit der du gemeinsam unte
 rwegs bist.\n\nEine Besonderheit ist\, dass wir bewusst auch öfter schwei
 gend wandern werden. Klingt ungewohnt für dich? Probiere es doch einfach 
 mal aus! Du wirst sehen\, diese Tage tun der Seele gut und trotz Stille im
  Gehen kommt die Gemeinschaft in der Gruppe nicht zu kurz!\n\nHüttenwande
 rung entlang des Salzburger Almenwegs (Österreich)\nBegleitung: Sr. Chris
 tine Klimann sa und Albert Holzknecht SJ\n\nNähere Informationen/Anmeldun
 g: Haus Hoheneichen
ATTACH;FMTTYPE=image/jpeg:https://gcl.de/wp-content/uploads/2026/03/wander
 exerzitien-510x510-1.jpg
CATEGORIES:Für junge Erwachsene
LOCATION:Salzburger Almenweg\, Österreich\, \, Österreich
X-APPLE-STRUCTURED-LOCATION;VALUE=URI;X-ADDRESS=\, Österreich;X-APPLE-RADI
 US=100;X-TITLE=Salzburger Almenweg\, Österreich:geo:0,0
END:VEVENT
BEGIN:VTIMEZONE
TZID:Europe/Berlin
X-LIC-LOCATION:Europe/Berlin
BEGIN:DAYLIGHT
DTSTART:20260329T030000
TZOFFSETFROM:+0100
TZOFFSETTO:+0200
TZNAME:CEST
END:DAYLIGHT
END:VTIMEZONE
END:VCALENDAR