BEGIN:VCALENDAR
VERSION:2.0
PRODID:-//wp-events-plugin.com//7.2.3.1//EN
TZID:Europe/Berlin
X-WR-TIMEZONE:Europe/Berlin
BEGIN:VEVENT
UID:0-251@gcl.de
DTSTART;TZID=Europe/Berlin:20260831T170000
DTEND;TZID=Europe/Berlin:20260904T093000
DTSTAMP:20250916T113417Z
URL:https://gcl.de/veranstaltungen/wegexerzitien-5-tage/
SUMMARY:Wegexerzitien - 5 Tage
DESCRIPTION:Jeden Tag zu Fuß zu einem Ziel unterwegs (ca. fünf bis sechs 
 Stunden) und zurückkommen ins Haus und zu sich selbst.\n\nElemente:\n- Sc
 hweigen\n- zwei geistliche Impulse\n- Begleitgespräche\n- Eucharistiefeie
 r\n\nDer Tag endet am letzten Tag mit dem Frühstück.\n\nBegleitung:\nAng
 elika Evers\, Dresden\nHerbert Rieger SJ\, Dresden\n\nHauskosten: 280 EUR\
 n\nKursgebühr: 150 EUR\n\nAnmeldung:\nHaus HohenEichen\nTel.: 0351 26164-
 10\; info@haus-hoheneichen.de\nOnline-Anmeldung
ATTACH;FMTTYPE=image/jpeg:https://gcl.de/wp-content/uploads/2023/05/Maenne
 r_berge_bibel.jpg
CATEGORIES:Exerzitien,Straßenexerzitien
LOCATION:Haus HohenEichen\, Dresdner Str. 73\, Dresden\, 01326\, Deutschlan
 d
X-APPLE-STRUCTURED-LOCATION;VALUE=URI;X-ADDRESS=Dresdner Str. 73\, Dresden\
 , 01326\, Deutschland;X-APPLE-RADIUS=100;X-TITLE=Haus HohenEichen:geo:0,0
END:VEVENT
BEGIN:VTIMEZONE
TZID:Europe/Berlin
X-LIC-LOCATION:Europe/Berlin
BEGIN:DAYLIGHT
DTSTART:20260329T030000
TZOFFSETFROM:+0100
TZOFFSETTO:+0200
TZNAME:CEST
END:DAYLIGHT
END:VTIMEZONE
END:VCALENDAR